BEGIN:VCALENDAR
VERSION:2.0
PRODID:-//RunIreland.com - ECPv6.5.1.5//NONSGML v1.0//EN
CALSCALE:GREGORIAN
METHOD:PUBLISH
X-WR-CALNAME:RunIreland.com
X-ORIGINAL-URL:https://www.runireland.com
X-WR-CALDESC:Events for RunIreland.com
REFRESH-INTERVAL;VALUE=DURATION:PT1H
X-Robots-Tag:noindex
X-PUBLISHED-TTL:PT1H
BEGIN:VTIMEZONE
TZID:Europe/Dublin
BEGIN:STANDARD
TZOFFSETFROM:+0000
TZOFFSETTO:+0100
TZNAME:IST
DTSTART:20190331T010000
END:STANDARD
BEGIN:DAYLIGHT
TZOFFSETFROM:+0100
TZOFFSETTO:+0000
TZNAME:GMT
DTSTART:20191027T010000
END:DAYLIGHT
END:VTIMEZONE
BEGIN:VEVENT
DTSTART;TZID=Europe/Dublin:20191013T090000
DTEND;TZID=Europe/Dublin:20191013T150000
DTSTAMP:20260422T130838
CREATED:20190820T090356Z
LAST-MODIFIED:20191007T141441Z
UID:178682-1570957200-1570978800@www.runireland.com
SUMMARY:Run Ballymac
DESCRIPTION:Ballymacelligott GAA is hosting Run Ballymac on Sunday 13th October. \nThis is an event which has something for everyone \n1/2 marathon 10k 5k and family fun run for you the kids and nan\, grandad \nRegistration to all races and the family fun run can be done online see below for details \nThe 1/2 marathon\,10k and 5k are chipped timed \nThe 1/2 marathon and 10k include a Run Ballymac finishers t-shirt.\nTo guarantee t-shirt size register before September 10th \nMedals for all finishers! \nPrizes\nTrophy Prize\n1st 2nd 3rd Home in both male and female category in all three races \nBib collection \nWill take place at the Ballymacelligott Community Centre on Saturday evening 7-9 and on race day \nRegistration cutoff \nOnline registration will close on Friday 11th October at 9pm \nManual registration will be taken on Saturday 12th 7-9 at Ballymacelligott community centre and on the morning of the race\nManual registration will incur a €5 administration charge \nManual registration will close one hour before each race \nRace times \n1/2 marathon 9.00am. €35\n10k. 10.00am €25\n5k. 12.00pm.€12.50\n3k fun run. 1.00pm €20 per family \nAll races will start and finish in the community centre area \nParking\nNo parking will be permitted in the vicinity of the community centre\nParking to the east of the half way bar stewards in place to guide\nParking to west of community centre after 10.30 stewards will guide\nPlease respect residents and stewards \nRefreshments teas coffees and treats for all at the finish in the community centre \nRoutes\nAll routes will bring you through the beautiful parish of Ballymac\nAll races are on road and suitable to all walkers joggers and racers\nOur 1/2 marathon will provide you with beautiful views over Tralee Bay \,Ballymacelligott and Carrantohill \nOur 10k takes you through the quiet back roads of the parish where you will enjoy a lovely downhill finish to the community centre \nThe 5k route will take our runners up beyond St Brendan’s church before returning on the downhill a lovely route for all \nOur family fun run will see our younger kids out on the road to Clogher school before returning to community centre for some well earned treats \nWe look forward to seeing you on the day ! \nEnter here
URL:https://www.runireland.com/events/run-ballymac/
LOCATION:ballymacelligott
CATEGORIES:10K,5K,Half Marathon,Kids Race
ATTACH;FMTTYPE=image/png:https://www.runireland.com/wp-content/uploads/2019/08/CEF5B5F6-D8E9-46ED-AD3B-B6F653B64D98-1.png
ORGANIZER;CN="ballymacelligott Gaa":MAILTO:treasurer.ballymacelligott.kerry@gaa.ie
END:VEVENT
BEGIN:VEVENT
DTSTART;TZID=Europe/Dublin:20191013T103000
DTEND;TZID=Europe/Dublin:20191013T130000
DTSTAMP:20260422T130838
CREATED:20190924T123506Z
LAST-MODIFIED:20190925T074954Z
UID:179048-1570962600-1570971600@www.runireland.com
SUMMARY:North East Galway 10k\, 5k & Childrens Run
DESCRIPTION:Enter online\, Entry on the day €5 extra \nWe would like to inform you of the North East Galway 10km race on Sunday 13th October at 12 noon in Moylough\, Co Galway. The event is being arranged by the Moylough 79 Soccer club. The race is open to all runners\, walkers. \nVenue \nThe race starts in the village of Moylough and finishes at the Moylough Sportsfield. There will be changing facilities available at the Sportsfield and at the local Community Centre.  \nThe route has been measured by Andy Talbot\, Athletics Ireland. \nEntry Details \nThe Registration Fee is €15.00 if you register online at www.runireland.com prior to the race contact 087 3665692. Race number pick up available in Moylough Community Centre on Sat 12th Oct 6pm to 7pm and again on Sun 13th from 10am \nRegistration on the Morning of the Race will be €20.00 in Moylough Community Centre from 10am \nPrizes \nFirst 80 registered will receive a Technical T-Shirt \nPrizes and Light Refreshments will be given at Moylough Sportsfield after the race. \nCash Prizes will be given for 1st\, 2nd\, 3rd Place\, Senior Man and 1st\, 2nd\, 3rd\, Senior Woman \nCash Prizes for Over 40 and Over 50 \nRace permitted by AAI and timed event \nRace Start is from the village of Moylough near Moylough Church. Facilities at End of Race include: \nChildrens Playground to entertain the children while race in progress \nBowling Green\, 1st Outdoor in the West \nTennis Court \nHandball Ally available to occupy others while waiting on race goers to return \nShowers and changing facilities available at end of Race at Moylough Sportsfield \nLight Refreshments will be available at Moylough Sportsfield after the race \nTo encourage fitness activities amongst our Young Citizens we are having a Children’s 1.5k Fun Run at 10.30am with a Goodie Bag at the finish line entry fee is €5. \n And a 5km fun run/walk with an entry fee of €10.00 \n\n\n\n\n\nMoylough Village is situated on the Main Galway Roscommon road N63 and is approximately 14 Miles from Tuam 16 Miles from Athenry and easily accessed from all sides. The Community centre is on the Roscommon side of the town.
URL:https://www.runireland.com/events/north-east-galway-10k-5k-childrens-run/
LOCATION:Moylough village
CATEGORIES:10K,5K,Kids Race
ATTACH;FMTTYPE=image/jpeg:https://www.runireland.com/wp-content/uploads/2019/09/image10-640x360.jpg
ORGANIZER;CN="Tom%C3%A1s Clancy":MAILTO:northeastgalway10k@yahoo.ie
END:VEVENT
BEGIN:VEVENT
DTSTART;TZID=Europe/Dublin:20191013T110000
DTEND;TZID=Europe/Dublin:20191013T130000
DTSTAMP:20260422T130838
CREATED:20190909T080927Z
LAST-MODIFIED:20190909T080927Z
UID:178867-1570964400-1570971600@www.runireland.com
SUMMARY:Scoil Bhríde Milltown 5K Fun Run
DESCRIPTION:Scoil Bhríde Milltown’s 5K Fun Run \nDate: Sunday 13th October 2019 \nStart Time: 11.00 am \nScoil Bhríde Milltown is very excited to launch this wonderful event\, the very first of its kind in Milltown.  It promises to be a most memorable fun 5k event for runners walkers and crawlers \nChip timed by JustRuns Events \nFinishers medal for all participants \nPrizes for 1st Male\, 1st Female & 1st Under 16 \nUnder 3 and Playschoolers free \nLight refreshments will be provided after the race
URL:https://www.runireland.com/events/scoil-bhride-milltown-5k-fun-run/
LOCATION:Scoil Bhríde Milltown\, Milltown\, Newbridge\, Co. Kildare
CATEGORIES:5K
ATTACH;FMTTYPE=image/jpeg:https://www.runireland.com/wp-content/uploads/2019/09/Milltown-Poster.jpg
ORGANIZER;CN="Scoil Bhr%C3%ADde Milltown":MAILTO:timing@justrunsevents.ie
END:VEVENT
BEGIN:VEVENT
DTSTART;TZID=Europe/Dublin:20191013T110000
DTEND;TZID=Europe/Dublin:20191013T170000
DTSTAMP:20260422T130839
CREATED:20190717T130350Z
LAST-MODIFIED:20190717T130350Z
UID:178405-1570964400-1570986000@www.runireland.com
SUMMARY:Zombie Run\, 6k At The Jungle
DESCRIPTION:Ireland’s original Zombie Run at The Jungle\, challenges participants to complete a daring 6K obstacle trail run while being chased by blood-thirsty\, running Zombies. \nThe Zombie Run returns this year and will take place on Sunday 13th October 2019 \nThis year’s course will be a challenging 6K obstacle run\, complete with various ‘infected zones’ where you will be faced with the task of evading our life stealing zombies. It will also have a disorientating Cornfield Maze to find your way through and lots of painstaking obstacles to conquer such as the exhilarating Giant Water Slide\, the slippery Slip N Slide and many more. As usual\, we will have few other spooky surprises to make it a little more daunting. \nOn the after the adults event we have the kids Zombie Run with a 2km and 6km zombie chasing course.
URL:https://www.runireland.com/events/zombie-run-6k-at-the-jungle/
LOCATION:The Jungle (County Derry)\, 60 Desertmartin Rd\, Moneymore\, BT45 7RB
CATEGORIES:Adventure Races,Kids Race
ATTACH;FMTTYPE=image/jpeg:https://www.runireland.com/wp-content/uploads/2019/07/43763747_10155630175911176_1627284227085041664_o.jpg
ORGANIZER;CN="The Jungle":MAILTO:hugh@thejungleni.com
END:VEVENT
BEGIN:VEVENT
DTSTART;TZID=Europe/Dublin:20191013T120000
DTEND;TZID=Europe/Dublin:20191013T150000
DTSTAMP:20260422T130839
CREATED:20190908T103639Z
LAST-MODIFIED:20190908T163422Z
UID:178900-1570968000-1570978800@www.runireland.com
SUMMARY:Get Ready To Run 5K & 10K
DESCRIPTION:5km and 10km run in the picturesque village of Kilkerrin (Ballinasloe\, Co Galway). Both distances start at the Community Development Centre in the town and divide after 2.5 km.\nBoth routes have a slight incline after 1km and again for the last 1km. The rest of the route is flat.\nRunners\, joggers and walkers are welcome.\nBoth routes are AAI measured.\nRefreshments are provided before and after the event.\nEntry: Adult: €10\, Children: €5\, family rates available.\nRegister through Run Ireland or on the day (up to 11am).\nCategories for men and women\, U-18 boys and U-18 girls at both distances.\nCash prizes for men and women\, trophies for U-18
URL:https://www.runireland.com/events/get-ready-to-run5k-10k/
CATEGORIES:10K,5K
END:VEVENT
END:VCALENDAR