BEGIN:VCALENDAR
VERSION:2.0
PRODID:-//RunIreland.com - ECPv6.5.1.5//NONSGML v1.0//EN
CALSCALE:GREGORIAN
METHOD:PUBLISH
X-ORIGINAL-URL:https://www.runireland.com
X-WR-CALDESC:Events for RunIreland.com
REFRESH-INTERVAL;VALUE=DURATION:PT1H
X-Robots-Tag:noindex
X-PUBLISHED-TTL:PT1H
BEGIN:VTIMEZONE
TZID:Europe/Dublin
BEGIN:STANDARD
TZOFFSETFROM:+0000
TZOFFSETTO:+0100
TZNAME:IST
DTSTART:20190331T010000
END:STANDARD
BEGIN:DAYLIGHT
TZOFFSETFROM:+0100
TZOFFSETTO:+0000
TZNAME:GMT
DTSTART:20191027T010000
END:DAYLIGHT
END:VTIMEZONE
BEGIN:VEVENT
DTSTART;VALUE=DATE:20191012
DTEND;VALUE=DATE:20191013
DTSTAMP:20260422T165206
CREATED:20181106T153500Z
LAST-MODIFIED:20181106T153755Z
UID:172396-1570838400-1570924799@www.runireland.com
SUMMARY:Quest Killarney 2019
DESCRIPTION:Quest Killarney is part of the best adventure race series in the world. This epic adventure involves racers running and cycling through the Gap of Dunloe\, Molls Gap\, Black Valley\, Ring of Kerry\, Torc Waterfall\, Devil’s Punchbowl\, Mangerton Mountain and Muckross House as well as kayaking across the Muckross Lake in Killarney National Park.
URL:https://www.runireland.com/events/quest-killarney-2019/
LOCATION:Killarney\, Ireland
CATEGORIES:Adventure Races,Cycle Events,Trail / Off Road Races
ORGANIZER;CN="Elite Event Management":MAILTO:info@eliteevents.ie
GEO:53.1423672;-7.6920536
END:VEVENT
BEGIN:VEVENT
DTSTART;TZID=Europe/Dublin:20191012T080000
DTEND;TZID=Europe/Dublin:20191012T170000
DTSTAMP:20260422T165206
CREATED:20190201T151958Z
LAST-MODIFIED:20190201T151958Z
UID:174385-1570867200-1570899600@www.runireland.com
SUMMARY:Quest Killarney
DESCRIPTION:Quest Killarney is part of the best adventure race series in the world. This epic adventure involves racers running and cycling through the Gap of Dunloe\, Molls Gap\, Black Valley\, Ring of Kerry\, Torc Waterfall\, Devil’s Punchbowl\, Mangerton Mountain and Muckross House as well as kayaking across the Muckross Lake in Killarney National Park. With five routes to choose from there’s something to suit everyone (including a kayak-free course). This is the biggest and best adventure race of the year in Ireland and not to be missed. There are 5 different categories to cater for all fitness levels: \n83km – Expert\n73km – Pro\n65km – Dual (no Kayak)\n55km – Sport\n27km – Challenge
URL:https://www.runireland.com/events/quest-killarney/
LOCATION:Killarney\, Ireland
CATEGORIES:Adventure Races
ATTACH;FMTTYPE=image/jpeg:https://www.runireland.com/wp-content/uploads/2019/01/QKO-event-cover.jpg
ORGANIZER;CN="Elite Event Management":MAILTO:info@eliteevents.ie
GEO:53.1423672;-7.6920536
END:VEVENT
BEGIN:VEVENT
DTSTART;TZID=Europe/Dublin:20191012T100000
DTEND;TZID=Europe/Dublin:20191012T130000
DTSTAMP:20260422T165206
CREATED:20190829T155453Z
LAST-MODIFIED:20190829T155453Z
UID:178827-1570874400-1570885200@www.runireland.com
SUMMARY:Rosemount Half Marathon And 10KM
DESCRIPTION:Following a very successful first year\, the Rosemount half marathon and 10km race is back on Saturday October 12th 2019. \nWith the route set in the picturesque village of Rosemount in Co. Westmeath\, this is one race you don’t want to miss. \nThe event is registered with the Athletics Association of Ireland and will be timed by the ever proffessional MyRunResults team. \nCheck out the event Facebook page for all info: https://business.facebook.com/RosemountHM/ \nEarly bird registration is available until August 31st through the following link: https://register.primoevents.com/ps/event/RosemountHalfMarathon10k2019?fbclid=IwAR2k4RWK_KYjkUSaTJpup6YHbXT8ecW0JsmePpdvNBnvqffvn6tGrgc52Mw \nFor more information on the race email rosemounthalfmarathon@gmail.com or call Claire on 0857860181
URL:https://www.runireland.com/events/rosemount-half-marathon-and-10km-2/
CATEGORIES:10K,Half Marathon
ATTACH;FMTTYPE=image/jpeg:https://www.runireland.com/wp-content/uploads/2019/08/Rosemount-HM-Poster.jpg
ORGANIZER;CN="Claire Hanevy":MAILTO:rosemounthalfmarathon@gmail.com
END:VEVENT
BEGIN:VEVENT
DTSTART;TZID=Europe/Dublin:20191012T100000
DTEND;TZID=Europe/Dublin:20191012T170000
DTSTAMP:20260422T165206
CREATED:20190809T101624Z
LAST-MODIFIED:20190815T133043Z
UID:178597-1570874400-1570899600@www.runireland.com
SUMMARY:Bike 2 Bofin 2019
DESCRIPTION:SATURDAY 12th OCTOBER 2019 8am-4pm\nCLICK “HERE” TO REGISTER NOW  \n\n(Early Bird Special…€50 until 31st August)\n\n\n\nWe are delighted to launch the 7th annual BIKE-2-BOFIN 90k charity cycle from Galway to Inishbofin\, with option of a shorter 45k from Maam Cross.   Cyclists are welcome to participate in either route option: \n90k Route…Galway-Moycullen-Oughterard-Maam-Recess-Clifden-Cleggan-Inishbofin (ferry crossing from Cleggan to Inishbofin). \n45k Route…Cycling group regroup at Maam Cross\, where cyclists participating in the shorter route will join the group.  Maam-Recess-Clifden-Cleggan-Inishbofin (ferry crossing from Cleggan to Inishbofin). \nThis event is open to cyclist of all levels and promises to be both challenging and fun filled with the option of an overnight stay on the island of Inishbofin. \nThis cycle is in support of local charity “Voices for Down Syndrome Galway” (www.downsyndromegalway.ie).  Since its inaugural in 2013\, the event has raised €150k\, a staggering achievement for all involved.  This year a portion of the funds raised will be allocated to the newly opened Down Syndrome Galway West centre.  Based in Moycullen village\, it aims to provide activities\, services and support to children and adults with Down Syndrome in the area and their families.     \nRegistration for Bike-2-Bofin 2019 is now open….Early Bird Special Registration Rate of €50 until 31st August\, €60 thereafter. \nFollowing the success of previous Bike-2-Bofin and the high level of interest in this year’s event\, early registration is advisable. Event is capped at 150 participants\, so register early to avoid disappointment….. \nCLICK “HERE” TO REGISTER NOW  \n\nFUNDRAISING:\nThe primary purpose of Bike-2-Bofin is for all participants to approach the event in an enthusiastic manner and enjoy a worthwhile endeavour.  We ask that participants raise or donate a minimum of €120 (excluding registration fee)\, via one of the following fundraising options\, simply indicate your preference during registration process:\n1) Sponsorship Card…card and monies to be returned to a committee member at registration on the morning of the cycle.\n2) iDonate Fundraising Page…to set up your own fundraising page through our iDonate Bike-2-Bofin 2019 event page click “HERE”\n3) Donation…make a donation when registering for Bike-2-Bofin\n100% of monies raised/donated by each participant will support the vital work by the charity.  \n\nABOUT THE EVENT:\n90k ROUTE : GALWAY-MOYCULLEN-OUGHTERARD-MAAM-RECESS-CLIFDEN-CLEGGAN\n\nCycling group to meet at St Marys College\, St Marys Road Galway at 8am on Saturday 12th of October.  \nThere will be a scheduled stop at Peacocks Hotel (approx. half-way point) for refreshments and food.\n45k ROUTE: MAAM CROSS-RECESS-CLIFDEN-CLEGGAN\n\n\nCycling group to regroup at Peacocks Hotel\, Maam Cross\, where cyclists participating in the shorter route will join the group. \nFull support will be available on the day to all cyclists\, with a sweeper vehicle\, a luggage support vehicle and a food van.\nArrival in Cleggan and ferry that afternoon to Inishbofin for a night of ceoil and craic! \n\n\nACCOMMODATION:\nA variety of accommodation is available on Inishbofin\, however it is essential that participants book their own accommodation prior to the event.\nPlease visit www.inishbofin.com for a full list of hotels\, B&Bs\, self-catering cottages and hostel options.\nFor additional information\, contact Pat Coyne 087 2850812.\nFor those staying overnight\, bags can be dropped off at St Marys College for the luggage van on the morning of the cycle.\nNB…Cyclists who do not require an overnight stay on Inishbofin must organise their own transport back to Galway from Cleggan on Saturday 12th October\, as there will only be an organised bus from Cleggan to Galway on Sunday 13th October. For additional information please contact 087 9034664.RETURN TO GALWAY (CYCLISTS & BIKES):\nA reserved secure area will be allocated for participants bikes at Cleggan\, bikes will be safely transported back to Galway and arrangement will be made for bikes to be collected from St Mary’s College on Sunday 13th October.\nSunday 13th October\, return ferry departs Inishbofin Sunday morning\, followed by bus back to St Mary’s College\, Galway.\n\nSAFETY:\nA safety statement has been prepared for the event and will be acknowledged by each participant prior to the cycle. Remember…NO HELMET…NO CYCLE REGISTRATIONRegistration fee for the 90k/45k cycle is €60 p/p (non-refundable) NOTE – early bird special of €50 to 31st August\nRegistration fee includes : entry fee to 90k/45k – race pack & event t-shirt – food/refreshments stops enroute – return ferry to Inishbofin – dinner/buffet plus entertainment on the Saturday night – bus and transport of bikes to Galway on the Sunday.\nThere will be NO registration on the day of the cycle\, all cyclists must register online at to participate in the event.  Following the success of the previous Bike-2-Bofin and the high level of interest in this year’s event\, early registration is advisable. Event is capped at 150 participants\, so register early to avoid disappointment.  CLICK “HERE”TO REGISTER NOWFor those not traveling onto Inishbofin\, please phone  087 644827 for further information prior to registering for Bike-2-Bofin 2019 \n\n\nFeel free to circulate this info to family\, friends\, colleagues who may be interested in joining us this year\, we hope you will too. \n\nNOTE – If you have family and friends that want to travel on the ferry and have dinner but not participate in the cycle then they can use this link to register and pay:  Click “HERE”The organising committee are welcome you and thank you for your interest in participating in this memorable day.
URL:https://www.runireland.com/events/bike-2-bofin-2019/
LOCATION:Inishbofin Island\, Ireland
CATEGORIES:Cycle Events,Road Race
ORGANIZER;CN="Voices for Down Syndrome Galway":MAILTO:info@voicesforgalway.org
END:VEVENT
BEGIN:VEVENT
DTSTART;TZID=Europe/Dublin:20191012T120000
DTEND;TZID=Europe/Dublin:20191012T170000
DTSTAMP:20260422T165206
CREATED:20190115T130925Z
LAST-MODIFIED:20190520T214624Z
UID:173988-1570881600-1570899600@www.runireland.com
SUMMARY:CEIDE COAST HALF MARATHON & 10K
DESCRIPTION:The Ceide Coast Half Marathon and 10k will be held in Ballycastle\, on the 12th of October 2019\, which is located along the North Mayo coast. This race will be run on the day in conjunction with the 10k Coastal Challenge which is now in its 6th year. \nONLINE REGISTRATION ONLY \nRegistration link HERE \n 
URL:https://www.runireland.com/events/ceide-coast-half-marathon-10k-2/
LOCATION:Ballycastle Mayo\, Ballycastle\, Mayo\, .
CATEGORIES:10K,Half Marathon
ATTACH;FMTTYPE=image/jpeg:https://www.runireland.com/wp-content/uploads/2019/01/DSC_0053-scaled.jpg
ORGANIZER;CN="ballycastle AC":MAILTO:ceidecoasthalfmarathon@gmail.com
GEO:54.2796698;-9.3724643
X-APPLE-STRUCTURED-LOCATION;VALUE=URI;X-ADDRESS=Ballycastle Mayo Ballycastle Mayo .;X-APPLE-RADIUS=500;X-TITLE=Ballycastle:geo:-9.3724643,54.2796698
END:VEVENT
BEGIN:VEVENT
DTSTART;TZID=Europe/Dublin:20191012T180000
DTEND;TZID=Europe/Dublin:20191012T230000
DTSTAMP:20260422T165206
CREATED:20191011T160221Z
LAST-MODIFIED:20191011T160358Z
UID:179306-1570903200-1570921200@www.runireland.com
SUMMARY:Howl at the Moon
DESCRIPTION:WHERE: GALWAY WIND PARK\, SHANAPHEASTEEN ROAD\, OUGHTERARD\, CO. GALWAY\n(6KM SOUTH-WEST OF OUGHTERARD)\nJoin us for a unique opportunity to take a 9k or 17km night walk along the forest tracks and walking paths through the Galway Windpark under the light of a full moon. Organised with support from Coillte and SSE Ireland\, proceeds from this event will be used to support Galway Mountain Rescue teams long term objective of constructing a dedicated mountain rescue base. \nThe full route is 17.1km long with an altitude gain of 384m. The shorter option (the northern half of the full Fig-8 route) is 9km with an altitude gain of 185m. \nParticipants will be briefed on the walk and will be given a copy of the Walk Route Map. Participants can opt to walk with one of the organised groups which will each be led by a member of Galway MRT or they can choose to follow the route independently with their own friends/family. In either case\, they will meet route marshals along the way who will assist if required. \nFor more information and to register go to https://howlatthemoon.ie
URL:https://www.runireland.com/events/howl-at-the-moon/
LOCATION:Seanaphestin\, Oughterard\, Co. Galway\, Ireland
CATEGORIES:Other,Trail / Off Road Races
ATTACH;FMTTYPE=image/jpeg:https://www.runireland.com/wp-content/uploads/2019/10/HOWL-at-the-moon-.jpg
END:VEVENT
END:VCALENDAR