BEGIN:VCALENDAR
VERSION:2.0
PRODID:-//RunIreland.com - ECPv6.5.1.5//NONSGML v1.0//EN
CALSCALE:GREGORIAN
METHOD:PUBLISH
X-ORIGINAL-URL:https://www.runireland.com
X-WR-CALDESC:Events for RunIreland.com
REFRESH-INTERVAL;VALUE=DURATION:PT1H
X-Robots-Tag:noindex
X-PUBLISHED-TTL:PT1H
BEGIN:VTIMEZONE
TZID:Europe/Dublin
BEGIN:STANDARD
TZOFFSETFROM:+0000
TZOFFSETTO:+0100
TZNAME:IST
DTSTART:20190331T010000
END:STANDARD
BEGIN:DAYLIGHT
TZOFFSETFROM:+0100
TZOFFSETTO:+0000
TZNAME:GMT
DTSTART:20191027T010000
END:DAYLIGHT
END:VTIMEZONE
BEGIN:VEVENT
DTSTART;TZID=Europe/Dublin:20190929T090000
DTEND;TZID=Europe/Dublin:20190929T130000
DTSTAMP:20260423T004848
CREATED:20190709T110620Z
LAST-MODIFIED:20190809T124615Z
UID:178345-1569747600-1569762000@www.runireland.com
SUMMARY:New FASTLANE Half marathon & 10km
DESCRIPTION:Get in the FASTLANE for this new half marathon and 10km taking place on the 29th of September in Dublin. \nI guess the clue is in the name ‘FASTLANE’…. We believe that this race will be a flier. Yes – ye savy marathon runners will note that the date works to tick the half marathon box on your way to training for the October marathon. Might be a bonus PB in it for you too. Same PB potential applies to the 10km. \nThe race is located along the scenic settings of the Grand Canal and around the newly surfaced perimeter of Grange Castle business park. The route has that country feel on the edge of the city. It is a flat course with long straight lines. The route has an elevation gain of 27m. Not so bad…. \nEach finisher will receive a cool bespoke medal (to be revealed soon) and both the half and 10km participants will receive a training top. There are Early Bird prices to the end of July. Half marathon is €30 and the 10km is €20. The important bit to tell ye is that this race has an entry limit. We are only accepting 500 for the 10km.  Don’t leave it too late. \nPrices are now €33 for the Half and €25 for the 10k \nThis race is for everyone with an allergy to hills! There will be pacers for the half marathon so you can test yourself to stay with them and (hopefully) achieve your PB time. For more information or to enter and secure the limited spaces go to www.rundublin.com Get in the FASTLANE now for this new and exciting race!
URL:https://www.runireland.com/events/new-fastlane-half-marathon-10km/
CATEGORIES:10K,Half Marathon
ATTACH;FMTTYPE=image/jpeg:https://www.runireland.com/wp-content/uploads/2019/07/fast.jpg
ORGANIZER;CN="Eoin Ryan":MAILTO:eoinryan1@hotmail.com
END:VEVENT
BEGIN:VEVENT
DTSTART;TZID=Europe/Dublin:20190929T090000
DTEND;TZID=Europe/Dublin:20190929T170000
DTSTAMP:20260423T004848
CREATED:20190509T104627Z
LAST-MODIFIED:20190705T103040Z
UID:177612-1569747600-1569776400@www.runireland.com
SUMMARY:Sligo Coast to Coast 10 Mile or 5 Mile
DESCRIPTION:SLIGO COAST TO COAST 2019 sponsored by CALL OF THE WILD \n“Lets make the Point!” \nSligo A.C. are pleased to announce our 7th annual 10 Mile Road Race will take place on September 29th 2019. We guarantee all participants a fantastic race day. \nEnter now ….. \nThe route is predominately flat\, perfect for those hoping to achieve a PB\, and ideal for runners new to the 10 mile distance or those wishing to simply enjoy a scenic flat race along the beautiful wild Atlantic way. \nOur event distance\, course and timing also fits nicely with marathon training. Participants on the day can expect exceptional hospitality not only in terms of the post event food but also lots of local support encouraging runners along the route. \nThere will be a medal for all event finishers and we continue to offer prizes across all the categories and a high quality technical t-shirt if you the participant opt for same. \nEvent Details:\n-Entry cost: €20 for 10 mile run/walk (over 18 only) \n-Entry cost: €15 for 5 Mile \n-AAI Approved \n-Accurately Measured \n-Accurately timed \n-Finishers medal \nEvent categories: \nPrizes 10 Mile Run \nPrizes for 1st\, 2nd & 3rd Male & Female across the line.\nJunior 18-20(over18 on 23.9.2017) 1st Male & Female\nOver 40’s 1st\, 2nd Male & Female\nOver 45’s 1st\, 2nd Male & Female\nOver 50’s 1st Male & 1st Female’s\nOver 55’s 1st Male & Female\nOver 60’s 1st Male & 1st Female\nOver 65’s 1st Male & 1st Female\nOver 70’s 1st Male & 1st Female \nPrizes 10 Mile Walk \nPrizes for 1st\,\, 2nd & 3rd Male & Female walker across the line\nover 40 1st Male & Female\nover 50 1st Male & Female\nover 60 1st Male & Female\nover 70 1st Male & Female \nPrizes for 1st\,2nd\,& 3rd Male & Female across the line \nEvent Schedule: \n10 mile walk starts @ 11.00am\, Sunday 29th September 2019 \n@ Sligo Rugby Club\, Strandhill\, Sligo (Parking available)-Finishing in Rosses Point\, Sligo \n10 mile run starts at 12 noon (as above) \nCollect Race number & T-shirt in Sligo Yacht club\, Rosses point\, on 28h September between 6pm-8pm & Sunday morning 29thth September between 8.00am-10.00am\nWe look forward to welcoming you to Sligo and to our race on 29.9.2019 \nEmail with queries on sligocoasttocoast@gmail.com or through facebook sligocoasttocoast \nALL DONATIONS MADE WILL BE PAYABLE TO FAMILY CARERS IRELAND and NORTH–WEST HOSPICE.
URL:https://www.runireland.com/events/sligo-coast-to-coast-10-mile-or-5k/
CATEGORIES:10 Miles
ORGANIZER;CN="coretiming":MAILTO:coretiming@gmail.com
END:VEVENT
BEGIN:VEVENT
DTSTART;TZID=Europe/Dublin:20190929T103000
DTEND;TZID=Europe/Dublin:20190929T140000
DTSTAMP:20260423T004848
CREATED:20181123T105528Z
LAST-MODIFIED:20181123T105714Z
UID:172835-1569753000-1569765600@www.runireland.com
SUMMARY:Donegal East Half and 3/4 Marathon
DESCRIPTION:A fast course running adjacent the River Finn. \nA perfect tune up for Dublin Marathon\, or a great run to challenge yourself.
URL:https://www.runireland.com/events/donegal-east-half-and-3-4-marathon/
CATEGORIES:Half Marathon,Other
ORGANIZER;CN="excel sports":MAILTO:eunanquinnsport@gmail.com
END:VEVENT
BEGIN:VEVENT
DTSTART;TZID=Europe/Dublin:20190929T110000
DTEND;TZID=Europe/Dublin:20190929T130000
DTSTAMP:20260423T004848
CREATED:20190806T143243Z
LAST-MODIFIED:20190808T204802Z
UID:178551-1569754800-1569762000@www.runireland.com
SUMMARY:THE WILD ATLANTIC WAG – Jog with your Dog
DESCRIPTION:THE WILD ATLANTIC WAG\n29th September at 11am\, registration from 9am. Enniscrone beach\, Co. Sligo. \nJog with your dog or bound with your hound on the stunning Enniscrone beach. 5km and 3km out and back course at low tide.\n1 dog\n2 dog\nSpider class – 2 people\, 1 dog = 8 legs\nJunior (3km) 11-16\nPups (1.5km) under 11 \nAll dogs must be at least 8 months old to do 3km and at least 12 months to do 5km. \nBespoke medals for ALL finishers – human and dog\, after all\, dogs deserve bling too. Chip timing\, goody bags\, spot prizes and locally made trophies. \nPlaces are limited so get your entries in. \n 
URL:https://www.runireland.com/events/the-wild-atlantic-wag-jog-with-your-dog/
LOCATION:Enniscrone\, Sligo\, Enniscrone\, Sligo\, Ireland
CATEGORIES:5K
ATTACH;FMTTYPE=image/jpeg:https://www.runireland.com/wp-content/uploads/2019/08/received_1068044556918222.jpeg
ORGANIZER;CN="Karen":MAILTO:irishsleddogs@hotmail.com
GEO:54.2136818;-9.0908352
X-APPLE-STRUCTURED-LOCATION;VALUE=URI;X-ADDRESS=Enniscrone Sligo Enniscrone Sligo Ireland;X-APPLE-RADIUS=500;X-TITLE=Enniscrone:geo:-9.0908352,54.2136818
END:VEVENT
BEGIN:VEVENT
DTSTART;TZID=Europe/Dublin:20190929T120000
DTEND;TZID=Europe/Dublin:20190929T143000
DTSTAMP:20260423T004848
CREATED:20190823T082610Z
LAST-MODIFIED:20190906T174905Z
UID:178719-1569758400-1569767400@www.runireland.com
SUMMARY:Run in the Park
DESCRIPTION:Run in the Park 2019 \nFun Run & Walk \n5K & 10K  \nRaising Funds for Kiltormer National School \nThis is a looped course in the fabulous setting of Portumna Forest Park \n12.00pm \nSunday 29th Sept  \nChip Timed by JustRuns Events \nLight refreshments afterwards
URL:https://www.runireland.com/events/run-in-the-park/
LOCATION:Portumna Forest Park\, Portumna\, Co. Galway\, H53 AH10
CATEGORIES:10K,5K
ATTACH;FMTTYPE=image/jpeg:https://www.runireland.com/wp-content/uploads/2019/08/Kiltormer-new.jpg
END:VEVENT
BEGIN:VEVENT
DTSTART;TZID=Europe/Dublin:20190929T123000
DTEND;TZID=Europe/Dublin:20190929T143000
DTSTAMP:20260423T004848
CREATED:20190807T133116Z
LAST-MODIFIED:20190807T133116Z
UID:178573-1569760200-1569767400@www.runireland.com
SUMMARY:Monasterevin Blueway 5K
DESCRIPTION:Monasterevin Blueway Fun run/walk 2019 \nMonasterevin community centre host the 1st Monasterevin Blue way Fun Run/Walk\, Beginning at the Community Center the route is along the banks of the canal\, (on & off-road) taking you over some of the many bridges that give Monasterevin its Venice of Ireland reputation\, experience the natural beauty of our waterways and the soon to be developed Blueway. \nRefreshments will be provided in the Community Centre after the Run. All monies raised will go towards the Monasterevin Community Centre development fund\, we have ambitious plans to further develop the centre. \nFor further details on the development visit https://www.monasterevincommunitycentre.ie/
URL:https://www.runireland.com/events/monasterevin-blueway-5k/
LOCATION:Monasterevin Community Centre\, Monasterevin\, Kildare
CATEGORIES:5K
ATTACH;FMTTYPE=image/jpeg:https://www.runireland.com/wp-content/uploads/2019/08/Blueway-5K.jpg
END:VEVENT
END:VCALENDAR