BEGIN:VCALENDAR
VERSION:2.0
PRODID:-//RunIreland.com - ECPv6.5.1.5//NONSGML v1.0//EN
CALSCALE:GREGORIAN
METHOD:PUBLISH
X-ORIGINAL-URL:https://www.runireland.com
X-WR-CALDESC:Events for RunIreland.com
REFRESH-INTERVAL;VALUE=DURATION:PT1H
X-Robots-Tag:noindex
X-PUBLISHED-TTL:PT1H
BEGIN:VTIMEZONE
TZID:Europe/Dublin
BEGIN:STANDARD
TZOFFSETFROM:+0000
TZOFFSETTO:+0100
TZNAME:IST
DTSTART:20190331T010000
END:STANDARD
BEGIN:DAYLIGHT
TZOFFSETFROM:+0100
TZOFFSETTO:+0000
TZNAME:GMT
DTSTART:20191027T010000
END:DAYLIGHT
END:VTIMEZONE
BEGIN:VEVENT
DTSTART;TZID=Europe/Dublin:20190915T080000
DTEND;TZID=Europe/Dublin:20190915T143000
DTSTAMP:20260423T004846
CREATED:20190806T144052Z
LAST-MODIFIED:20190808T212130Z
UID:178561-1568534400-1568557800@www.runireland.com
SUMMARY:Pawsitive Fitness 5K jog with your dog
DESCRIPTION:Our first ever Pawsitive Fitness canicross race will take place in the wonderful Castletown House & Parklands in Celbridge\, Co. Kildare.\n\n\n\nClasses will include:\n\n\n– 5k (men’s and women’s class)\n\n\n– 2 dog canicross (5k)\n\n\n– 3k\n\n\n– Junior (under 17’s)\n\n\n\n\n\nHuge thanks to our event sponsor Pethamper.ie\, Wheelworx Bike & Tri Shop and Fetch Your Pet Needs for coming on board to support this event.\n\n\n\n\n\nEvery entrant will get a goody bag with a gorgeous bespoke event medal and goodies from Fetch Your Pet Needs and Pet Hamper along with much more!\n\n\n\n\n\nWe will have race prizes from each of our sponsors and spot prizes on the day too\n\n\n\n\n\nWe’ll also be having a raffle on the day to raise funds for some of out Pawsitive Fitness gang to go to the International Canicross Championships as part of Team Ireland.\n\n\n\n\n\nWe also have a fab event t-shirt that can be purchased to commemorate the day\, so even if you can’t make the event\, grab a t-shirt!! €5 from each t-shirt sale will also go to the Team Ireland fund.\n\n\n\n\n\nTickets are on sale now\, so don’t delay and get your tickets now!!
URL:https://www.runireland.com/events/pawsitive-fitness-canicross-race/
LOCATION:Castletown House\, Celbridge\, Castletown House\, Celbridge\, Co Kildare\, W23 V9H3
CATEGORIES:5K,Kids Race,Trail / Off Road Races
ORGANIZER;CN="pawsitive fitness":MAILTO:pawsitivefitness@hotmail.com
GEO:53.349127;-6.53029
X-APPLE-STRUCTURED-LOCATION;VALUE=URI;X-ADDRESS=Castletown House Celbridge Castletown House Celbridge Co Kildare W23 V9H3;X-APPLE-RADIUS=500;X-TITLE=Castletown House:geo:-6.53029,53.349127
END:VEVENT
BEGIN:VEVENT
DTSTART;TZID=Europe/Dublin:20190915T113000
DTEND;TZID=Europe/Dublin:20190915T140000
DTSTAMP:20260423T004846
CREATED:20190828T134818Z
LAST-MODIFIED:20190828T134818Z
UID:178790-1568547000-1568556000@www.runireland.com
SUMMARY:Leg It for LARCC
DESCRIPTION:Leg It! for LARCC – 5km Walk / Run In aid of\nCancer Support Sanctuary LARCC On Sunday 15th of September LARCC will host our annual 5km fun walk / run from our grounds in Multyfarnham. Registration from 11.00am. Registration: Adults €15\, U18 years €5\, 2 Adults & 2 u18 years €30\nStart & Finish: LARCC Centre Car Park\, Coole Road\, Multyfarnham\nEvent to be timed and is AAI sanctioned.
URL:https://www.runireland.com/events/leg-it-for-larcc-2/
LOCATION:Cancer Support Sanctuary LARCC\, Coole Road\, Multyfarnham\, Mullingar
CATEGORIES:5K
ATTACH;FMTTYPE=image/png:https://www.runireland.com/wp-content/uploads/2019/08/Picture1-2.png
ORGANIZER;CN="LARCC":MAILTO:admin@cancersupport.ie
END:VEVENT
BEGIN:VEVENT
DTSTART;TZID=Europe/Dublin:20190915T120000
DTEND;TZID=Europe/Dublin:20190915T140000
DTSTAMP:20260423T004846
CREATED:20190417T120159Z
LAST-MODIFIED:20190524T210933Z
UID:177205-1568548800-1568556000@www.runireland.com
SUMMARY:Rathangan Runners Road Race 5K & 5Mile
DESCRIPTION:Rathangan Runners bring you this fantastic 5k & 5 mile event \nA fast and flat course so very possible to get that sought after PB \nPrizes – 1st & 2nd Male and Female in Both Races – 1st Male & Female Juvenille (U16) in 5K \nMedals for all participants \nChip timed by JustRuns Events \nBarbecue afterwards \nTicket prices will increase on the day of the race
URL:https://www.runireland.com/events/rathangan-runners-road-race-5k-5mile/
LOCATION:Rathangan Community Centre\, Rathangan\, Co. Kildare
CATEGORIES:5K,Road Race
ATTACH;FMTTYPE=image/jpeg:https://www.runireland.com/wp-content/uploads/2019/04/Rathangan-runners.jpg
ORGANIZER;CN="Rathangan Runners":MAILTO:triciamulpeter@gmail.com
GEO:53.2210179;-6.9945422
X-APPLE-STRUCTURED-LOCATION;VALUE=URI;X-ADDRESS=Rathangan Community Centre Rathangan Co. Kildare;X-APPLE-RADIUS=500;X-TITLE=Rathangan:geo:-6.9945422,53.2210179
END:VEVENT
BEGIN:VEVENT
DTSTART;TZID=Europe/Dublin:20190915T120000
DTEND;TZID=Europe/Dublin:20190915T150000
DTSTAMP:20260423T004846
CREATED:20190402T090146Z
LAST-MODIFIED:20190403T224257Z
UID:176771-1568548800-1568559600@www.runireland.com
SUMMARY:Dunderry N.S fundraiser
DESCRIPTION:Dunderry national school in Meath are holding their annual 5km and 10km road race fundraiser on Sunday the 15th of September at 12pm. The race is a fundraiser for the school but also run in memory of former pupil Alan Cosgrove. This will be the second year the event has run and will follow on from the hugely enjoyable day had last year. \nAn extremely flat course gives rise to the opportunity of a 5km or 10km PB for those  looking to push themselves but fun run/walk entrants are very welcome. \nRegistration is available through www.popupraces.ie or on the day at Dunderry school from 10. Race start time is 12pm and family friendly prizes will be awarded to fastest runners on the day.
URL:https://www.runireland.com/events/dunderry-n-s-fundraiser/
LOCATION:Dunderry\, Co. Meath
CATEGORIES:10K,5K,Road Race
ATTACH;FMTTYPE=image/jpeg:https://www.runireland.com/wp-content/uploads/2019/03/dunderry.jpg
ORGANIZER;CN="PopUpRaces":MAILTO:info@popupraces.ie
END:VEVENT
END:VCALENDAR