BEGIN:VCALENDAR
VERSION:2.0
PRODID:-//RunIreland.com - ECPv6.5.1.5//NONSGML v1.0//EN
CALSCALE:GREGORIAN
METHOD:PUBLISH
X-ORIGINAL-URL:https://www.runireland.com
X-WR-CALDESC:Events for RunIreland.com
REFRESH-INTERVAL;VALUE=DURATION:PT1H
X-Robots-Tag:noindex
X-PUBLISHED-TTL:PT1H
BEGIN:VTIMEZONE
TZID:Europe/Dublin
BEGIN:STANDARD
TZOFFSETFROM:+0000
TZOFFSETTO:+0100
TZNAME:IST
DTSTART:20190331T010000
END:STANDARD
BEGIN:DAYLIGHT
TZOFFSETFROM:+0100
TZOFFSETTO:+0000
TZNAME:GMT
DTSTART:20191027T010000
END:DAYLIGHT
END:VTIMEZONE
BEGIN:VEVENT
DTSTART;TZID=Europe/Dublin:20190727T100000
DTEND;TZID=Europe/Dublin:20190825T160000
DTSTAMP:20260423T004851
CREATED:20190611T105853Z
LAST-MODIFIED:20190611T105853Z
UID:178061-1564221600-1566748800@www.runireland.com
SUMMARY:Wild Air Run
DESCRIPTION:Wild Air Run 2019 is here! Book Now! \nEach year we add different features to our events\, this year it’s FOAM! \nThis Summer tackle our 5k inflatable obstacle course & finish the race on Europe’s largest 4 lane slide full of foam! \n2019 Location and Dates: \nMalahide Castle and Gardens – July 27th & 28th\nMarlay Park – August 24th & 25th \nTickets on sale now at wildairrun.com
URL:https://www.runireland.com/events/wild-air-run/
LOCATION:Malahide Castle Gardens\, Back Road\, Malahide
CATEGORIES:5K,Adventure Races,Kids Race,Other
ATTACH;FMTTYPE=image/jpeg:https://www.runireland.com/wp-content/uploads/2019/06/DSC04286-scaled.jpg
END:VEVENT
BEGIN:VEVENT
DTSTART;TZID=Europe/Dublin:20190825T070000
DTEND;TZID=Europe/Dublin:20190825T170000
DTSTAMP:20260423T004851
CREATED:20190116T211047Z
LAST-MODIFIED:20190116T211047Z
UID:174073-1566716400-1566752400@www.runireland.com
SUMMARY:IRONMAN 70.3 Dún Laoghaire
DESCRIPTION:Dún Laoghaire is a seaside town with a rich mix of cultural experiences\, hospitality\, a variety of leisure activities and the natural beauty of the surrounding mountains\, making it the ideal setting and destination for the thousands of athletes and supporters who will visit in August 2019. \nWhy race with us? \nStunning Transmountain Bike Course \nFinish in the Heart of Dún Laoghaire to a True Irish Welcome \nEasy Race Logistics in Small Sea-side Town \nEasily accessible for travelling athletes\, Dún Laoghaire is only 30 minutes from Dublin city centre and Dublin Airport. \n\n\nThe race features a 1.2-mile (1.9KM) swim from Sandycove\, home to the famous Martello Tower\, in the clear waters of the Irish Sea in Dublin Bay\, before taking athletes on a spectacular and challenging 56-mile (90KM) bike course. The course travels through some of the most scenic areas in the region\, including County Wicklow\, home to the Wicklow Mountains National Park and its glacial lakes\, rivers and abundant natural beauty. Athletes will take in stunning coastal views and weave their way through the streets of the charming seaside town for the 13.1-mile (21.1KM) run\, before finishing  with Dún Laoghaire Harbour and Dublin Bay as the backdrop. \nIRONMAN 70.3 Dún Laoghaire offers qualifying slots for the 2020 IRONMAN 70.3 World Championship in Taupo\, New Zealand.
URL:https://www.runireland.com/events/ironman-70-3-dun-laoghaire-2/
LOCATION:Dún Laoghaire\, Co. Dublin
CATEGORIES:Duathlons and Triathlons
ATTACH;FMTTYPE=image/png:https://www.runireland.com/wp-content/uploads/2019/01/DL.png
END:VEVENT
BEGIN:VEVENT
DTSTART;TZID=Europe/Dublin:20190825T110000
DTEND;TZID=Europe/Dublin:20190825T130000
DTSTAMP:20260423T004851
CREATED:20190620T113801Z
LAST-MODIFIED:20190711T181838Z
UID:178163-1566730800-1566738000@www.runireland.com
SUMMARY:Tralee Harriers\, Rose of Tralee 10k
DESCRIPTION:As part of the Festival of Kerry\, the popular Tralee Harriers Rose of Tralee 10Km is attended by former Roses\, Escorts\, their families and a few past Hosts of the event. \nStarting at the Wetlands Centre\, join these and many more as the weave through the Lakes\, Canals and Streets of Tralee finishing in town centre to music\, cheers and merriment. \nWith a selection of bands playing on route\, street entertainment and mouth watering refreshments it is sure to be another success. \n\nThere is a medal and t-shirt for all finishers. along with cash prizes and trophies for top three men and women and trophies for age categories \nThe 10k route will start at the Tralee Bay Wetlands taking in a lap of the Wetlands.\nIt continues towards Dan Spring Road\, down to the Ballymullen roundabout and up the River Lee Walk at the back of The Rose Hotel. Runners will exit the River Walk and head for the Canal and the Lock Gates\,\nAt the Lock Gates water station\, runners will head to town passing Lohercannon\, Ashgrove\, Kerin’s Park\, Knockmoyle and down past the Bon Secours Hospital\, through the roundabout and to the slip road by the back of the Tralee Garda Station Runners then turn up Rock Street passing The Brouge Inn and turn right at the 2nd traffic lights\, onto Maine Street \, passing Radio Kerry and past the Ashe Hotel exiting on to Ashe Street\, turn right down past The Courthouse and Credit Union\, crossing over to Denny Street and finish at the end of Denny Street. \nhttps://connect.garmin.com/modern/activity/1823753798…
URL:https://www.runireland.com/events/tralee-harriers-rose-of-tralee-10k/
LOCATION:Tralee Bay Wetlands Centre\, Tralee\, Co. Kerry
CATEGORIES:10K
ATTACH;FMTTYPE=image/jpeg:https://www.runireland.com/wp-content/uploads/2019/06/thumbnail_rose10kmposter19-Copy.jpg
ORGANIZER;CN="Tralee Harriers":MAILTO:traleeharriersannualruns@gmail.com
END:VEVENT
END:VCALENDAR