BEGIN:VCALENDAR
VERSION:2.0
PRODID:-//RunIreland.com - ECPv6.5.1.5//NONSGML v1.0//EN
CALSCALE:GREGORIAN
METHOD:PUBLISH
X-ORIGINAL-URL:https://www.runireland.com
X-WR-CALDESC:Events for RunIreland.com
REFRESH-INTERVAL;VALUE=DURATION:PT1H
X-Robots-Tag:noindex
X-PUBLISHED-TTL:PT1H
BEGIN:VTIMEZONE
TZID:Europe/Dublin
BEGIN:STANDARD
TZOFFSETFROM:+0000
TZOFFSETTO:+0100
TZNAME:IST
DTSTART:20190331T010000
END:STANDARD
BEGIN:DAYLIGHT
TZOFFSETFROM:+0100
TZOFFSETTO:+0000
TZNAME:GMT
DTSTART:20191027T010000
END:DAYLIGHT
END:VTIMEZONE
BEGIN:VEVENT
DTSTART;TZID=Europe/Dublin:20190727T100000
DTEND;TZID=Europe/Dublin:20190825T160000
DTSTAMP:20260423T004850
CREATED:20190611T105853Z
LAST-MODIFIED:20190611T105853Z
UID:178061-1564221600-1566748800@www.runireland.com
SUMMARY:Wild Air Run
DESCRIPTION:Wild Air Run 2019 is here! Book Now! \nEach year we add different features to our events\, this year it’s FOAM! \nThis Summer tackle our 5k inflatable obstacle course & finish the race on Europe’s largest 4 lane slide full of foam! \n2019 Location and Dates: \nMalahide Castle and Gardens – July 27th & 28th\nMarlay Park – August 24th & 25th \nTickets on sale now at wildairrun.com
URL:https://www.runireland.com/events/wild-air-run/
LOCATION:Malahide Castle Gardens\, Back Road\, Malahide
CATEGORIES:5K,Adventure Races,Kids Race,Other
ATTACH;FMTTYPE=image/jpeg:https://www.runireland.com/wp-content/uploads/2019/06/DSC04286-scaled.jpg
END:VEVENT
BEGIN:VEVENT
DTSTART;TZID=Europe/Dublin:20190818T093000
DTEND;TZID=Europe/Dublin:20190818T120000
DTSTAMP:20260423T004850
CREATED:20190528T151535Z
LAST-MODIFIED:20190702T153844Z
UID:177881-1566120600-1566129600@www.runireland.com
SUMMARY:Tri Lakes Sprint Triathlon 2019
DESCRIPTION:Why Enter Tri Lakes Sprint Triathlon 2019… \n\nA lake swim in the calm\, clear waters of Lough Mask\nA cycle & run around stunning Connemara\nHow food & showers at the finish line\nFantastic prizes including Garmin 735s for the winners\nA warm welcome from all at Tri Lakes Triathlon Club\nA great day out for you\, your family & friends
URL:https://www.runireland.com/events/tri-lakes-sprint-triathlon-2019/
CATEGORIES:Duathlons and Triathlons
ORGANIZER;CN="Tri Lakes Triathlon Club":MAILTO:trilakestriathlon@gmail.com
END:VEVENT
BEGIN:VEVENT
DTSTART;TZID=Europe/Dublin:20190818T093000
DTEND;TZID=Europe/Dublin:20190818T130000
DTSTAMP:20260423T004850
CREATED:20190614T130514Z
LAST-MODIFIED:20190614T130514Z
UID:178082-1566120600-1566133200@www.runireland.com
SUMMARY:Hillsborough Castle & Gardens Running Festival 2019
DESCRIPTION:We are excited to announce the BRAND NEW Hillsborough Castle & Gardens Running Festival\, including family races\, a 5k\, a 10k\, and a half marathon! Come and run the inaugural event at Hillsborough Castle on Sunday 18th August 2019 and take the opportunity to race around this unique location! \nThese ROAD CLOSED races will start and finish within the beautiful Grounds of Hillsborough Castle\, before heading out onto the surrounding rural roads of Hillsborough and taking in historic attractions in the local area such as Hillsborough Fort and Hillsborough Lake\, and finishing with a lap of the Gardens before crossing the finish line in the event village. Each mile is accurately marked out with distance flags and we have plenty of helpers to keep you on track and to encourage you on your way to the finish. \n*PLEASE NOTE: DUE TO ROAD CLOSURES THERE IS A STRICT 3 HOUR CUT OFF TIME FOR THE HALF MARATHON!\nYOUR ENTRY WILL INCLUDE:\nChip timed results \nUnique themed medal \nFree official event photos \nGoodie bag \nCome and enjoy the day with us; we hope to see you there!
URL:https://www.runireland.com/events/hillsborough-castle-gardens-running-festival-2019/
LOCATION:Hillsborough Csastle & Gardens\, The Square\, Hillsborough\, BT26 6AG
CATEGORIES:10K,5K,Half Marathon
ATTACH;FMTTYPE=image/png:https://www.runireland.com/wp-content/uploads/2019/06/HillsboroughLogo.png
ORGANIZER;CN="Greenwood Events":MAILTO:info@castlerunningfestival.com
END:VEVENT
BEGIN:VEVENT
DTSTART;TZID=Europe/Dublin:20190818T093000
DTEND;TZID=Europe/Dublin:20190818T140000
DTSTAMP:20260423T004850
CREATED:20190411T115322Z
LAST-MODIFIED:20190411T142047Z
UID:177091-1566120600-1566136800@www.runireland.com
SUMMARY:Donegal Half Marathon and Team Challenge
DESCRIPTION:NO ENTRIES WILL BE TAKEN ON THE MORNING OF THE RACE. Enter online to secure your place! \n*Special Early Bird OFFER* \nThe full and half marathon races will start at 9.20am on August 18th 2019. \nThere is a Cut-off time of 6 hours for the event\, we therefore do not accept walkers in the Full Marathon.  \nCollection of goody bag and t-shirt will be held at Aura Letterkenny Leisure Centre on Saturday August 17th from 2-6pm and on Sunday August 18th from from 7.30-8.30am. \nRunners will receive their number\, race information\, chip and t-shirt at registration. \nChip accurate times will be recorded for half and full marathon times. \nRunners who complete the race will receive a medal\, chip accurate time and goodie bag. \nThere are a limited number of lockers available in Aura Letterkenny Leisure Centre for €1. \n  \nTEAM CHALLENGE CUP\nWe’re giving runners of all levels the opportunity to team up with two friends\, work colleagues\, family members (or whoever!) and pit their fitness levels against rival teams\, all vying to get their hands on the Donegal Marathon Team Challenge Cup.\nSo\, why not join us on Sunday 18th August 2019 for what promises to be a great team building event for businesses and community groups. Participants can also use the event to raise much-needed funds for their chosen charity. In fact\, we’d encourage charities to get behind the Donegal Team Challenge as well\, by encouraging as many teams as possible to run on your behalf.Change over zones \nEach runner will run 7km\, change over areas at 7km and 14km. \n\nWe are delighted to partner with:
URL:https://www.runireland.com/events/donegal-half-marathon-and-team-challenge/
LOCATION:Aura Letterkenny Leisure Centre\, Sallaghagrane\, Letterkenny\, Co. Donegal\, Ireland
CATEGORIES:Half Marathon
ORGANIZER;CN="Herbie McDaid":MAILTO:herbielac@gmail.com
GEO:54.9511658;-7.7544114
X-APPLE-STRUCTURED-LOCATION;VALUE=URI;X-ADDRESS=Aura Letterkenny Leisure Centre Sallaghagrane Letterkenny Co. Donegal Ireland;X-APPLE-RADIUS=500;X-TITLE=Sallaghagrane:geo:-7.7544114,54.9511658
END:VEVENT
BEGIN:VEVENT
DTSTART;TZID=Europe/Dublin:20190818T110000
DTEND;TZID=Europe/Dublin:20190818T140000
DTSTAMP:20260423T004850
CREATED:20190313T093128Z
LAST-MODIFIED:20190313T123916Z
UID:176321-1566126000-1566136800@www.runireland.com
SUMMARY:The Wild Atlantic 10 Miler
DESCRIPTION:Ballina AC is proud to announce that our 3rd annual 10 mile road race will take place this year on Sunday\, August 18th at 11.00am. The race will begin in Belleek in Ballina town and will take participants on a fantastic route through the picturesque Belleek Woods that runs parallel to the iconic River Moy and along part of the Monasteries of the Moy Greenway. The route is ideal for runners new to the 10 mile distance and the timing of our race fits in nicely with those training for the Dublin City Marathon or other late autumn marathons.\nBallina AC has successfully hosted a range of races from 10k to 10 miles and marathons so we can guarantee participants a well-run event. Refreshments will be served after the event. \nEvent details & schedule \n• AAI approved and Jones counter measured.\n• The race is chipped and timed.\n• The race starts at 11.00am SHARP on Sunday\, August 18th\n• Starting & finishing point – Ballina Athletic Club\n• Race number\, chip and t-shirt collection – Ballina Town\nSoccer Club from 8.30 – 10.15am SHARP\n• Race briefing @ 10.45 SHARP – Ballina Athletic Club\n• Water stations on the route\n• Hot showers available\n• Every finisher will receive a bespoke medal on the day.\n• The first 200 registered will receive a technical t-shirt. \nPrizes \n1st\, 2nd and 3rd male & female\nAge group categories – Male & female O40\, 050 & O60\nFirst Ballina A.C member home \nWe would like to extend a warm welcome to all participants entering ‘the Wild Atlantic 10 Miler’ and we would like to thank you for entering our race.
URL:https://www.runireland.com/events/the-wild-atlantic-10-miler-2/
LOCATION:Ballina Athletic Club\, Belleek\, Ballina\, F26 VH52
CATEGORIES:10 Miles,Road Race,Trail / Off Road Races
ATTACH;FMTTYPE=image/jpeg:https://www.runireland.com/wp-content/uploads/2019/03/W-A-1.jpg
ORGANIZER;CN="Ballina AC":MAILTO:ballinaathleticclub@gmail.com
GEO:54.1196361;-9.1463054
X-APPLE-STRUCTURED-LOCATION;VALUE=URI;X-ADDRESS=Ballina Athletic Club Belleek Ballina F26 VH52;X-APPLE-RADIUS=500;X-TITLE=Belleek:geo:-9.1463054,54.1196361
END:VEVENT
END:VCALENDAR