BEGIN:VCALENDAR
VERSION:2.0
PRODID:-//RunIreland.com - ECPv6.5.1.5//NONSGML v1.0//EN
CALSCALE:GREGORIAN
METHOD:PUBLISH
X-WR-CALNAME:RunIreland.com
X-ORIGINAL-URL:https://www.runireland.com
X-WR-CALDESC:Events for RunIreland.com
REFRESH-INTERVAL;VALUE=DURATION:PT1H
X-Robots-Tag:noindex
X-PUBLISHED-TTL:PT1H
BEGIN:VTIMEZONE
TZID:Europe/Dublin
BEGIN:STANDARD
TZOFFSETFROM:+0000
TZOFFSETTO:+0100
TZNAME:IST
DTSTART:20190331T010000
END:STANDARD
BEGIN:DAYLIGHT
TZOFFSETFROM:+0100
TZOFFSETTO:+0000
TZNAME:GMT
DTSTART:20191027T010000
END:DAYLIGHT
END:VTIMEZONE
BEGIN:VEVENT
DTSTART;TZID=Europe/Dublin:20190727T100000
DTEND;TZID=Europe/Dublin:20190825T160000
DTSTAMP:20260423T051638
CREATED:20190611T105853Z
LAST-MODIFIED:20190611T105853Z
UID:178061-1564221600-1566748800@www.runireland.com
SUMMARY:Wild Air Run
DESCRIPTION:Wild Air Run 2019 is here! Book Now! \nEach year we add different features to our events\, this year it’s FOAM! \nThis Summer tackle our 5k inflatable obstacle course & finish the race on Europe’s largest 4 lane slide full of foam! \n2019 Location and Dates: \nMalahide Castle and Gardens – July 27th & 28th\nMarlay Park – August 24th & 25th \nTickets on sale now at wildairrun.com
URL:https://www.runireland.com/events/wild-air-run/
LOCATION:Malahide Castle Gardens\, Back Road\, Malahide
CATEGORIES:5K,Adventure Races,Kids Race,Other
ATTACH;FMTTYPE=image/jpeg:https://www.runireland.com/wp-content/uploads/2019/06/DSC04286-scaled.jpg
END:VEVENT
BEGIN:VEVENT
DTSTART;TZID=Europe/Dublin:20190810T070000
DTEND;TZID=Europe/Dublin:20190810T070000
DTSTAMP:20260423T051638
CREATED:20170919T140814Z
LAST-MODIFIED:20190325T140805Z
UID:175768-1565420400-1565420400@www.runireland.com
SUMMARY:Connemara 100
DESCRIPTION:The Connemara 100 on the West Coast of Ireland is run over a measured and certified course. The 2012 event was AAI permitted and awarded an IAU Bronze Label. This year we celebrate the 11th Anniversary of our 100 mile race.\nThe course is simply fabulous\, taking participants from Clifden through Letterfrack\, Lettergesh\, the Inagh Valley\, Maam Cross\, Leenane\, Inagh Valley again\, then on to Roundstone\, Ballyconneely and back to Clifden to complete 100 miles. \nThere is a 30 hour limit and every participant must have their own crew with them at all times to look after water\, food etc. \nThere will be medical support but because the course stretches over such a long distance there may be up to 25 miles between aid stations. So experienced crew support is essential and mandatory. \nEntry is available HERE
URL:https://www.runireland.com/events/connemara-100-2/
LOCATION:Connemara\, Co. Galway\, Clifden\, Clifden\, Ireland
CATEGORIES:Ultra Marathons
ATTACH;FMTTYPE=image/jpeg:https://www.runireland.com/wp-content/uploads/2017/10/galway_phase_1_597x336.jpg
ORGANIZER;CN="Ray O'Connor":MAILTO:ray@proactive.ie
GEO:53.4891345;-10.0202388
X-APPLE-STRUCTURED-LOCATION;VALUE=URI;X-ADDRESS=Connemara Co. Galway Clifden Clifden Ireland;X-APPLE-RADIUS=500;X-TITLE=Clifden:geo:-10.0202388,53.4891345
END:VEVENT
BEGIN:VEVENT
DTSTART;TZID=Europe/Dublin:20190810T090000
DTEND;TZID=Europe/Dublin:20190810T140000
DTSTAMP:20260423T051638
CREATED:20190304T113909Z
LAST-MODIFIED:20190801T102115Z
UID:176115-1565427600-1565445600@www.runireland.com
SUMMARY:Gaelforce 10k - Kippure 10km
DESCRIPTION:GO WILD IN WICKLOW AND NEVER GO BACK – 10KM TRAIL RUN\nThe second race in the new 2019 Gaelforce 10km Trilogy and the challenge is building. Be warned\, your days of urban pavement-pounding could be numbered. \nWELCOME TO KIPPURE ESTATE AND THE WONDERFUL WICKLOW COUNTRYSIDE\n240 acres of untamed\, natural beauty and an inspired location for a 10km trail run. \nGO REMOTE YET STAY CONNECTED\nBordering on the Wicklow Mountains National Park\, Kippure Estate is only 30 mins drive from Dublin city yet a million miles from urban running. \nA 10KM ROUTE TAKING YOU AROUND KIPPURE MOUNTAIN AND ITS SURROUNDS\nThe varied terrain is more forgiving to the body and the mind with single track trails\, forestry paths\, sealed roads and changing views. Run free and embrace this wild\, natural environment. No traffic\, traffic lights\, fumes or noise\, just you and an adventurous group of people taking on a unique challenge.
URL:https://www.runireland.com/events/gaelforce-10k-kippure-10km/
LOCATION:Kippure Holiday Village\, Kippure\, Co Wicklow\, Kippure
CATEGORIES:10K,Trail / Off Road Races
ATTACH;FMTTYPE=image/jpeg:https://www.runireland.com/wp-content/uploads/2019/03/Kippure-1.jpg
ORGANIZER;CN="Gaelforce":MAILTO:info@gaelforceevents.com
END:VEVENT
BEGIN:VEVENT
DTSTART;TZID=Europe/Dublin:20190810T100000
DTEND;TZID=Europe/Dublin:20190811T160000
DTSTAMP:20260423T051638
CREATED:20190116T210842Z
LAST-MODIFIED:20190325T140718Z
UID:174068-1565431200-1565539200@www.runireland.com
SUMMARY:Rock ‘n’ Roll Dublin Half Marathon & 10K
DESCRIPTION:Rock ‘n’ Roll Dublin is the most fun you’ll ever have running. Experience live music along the course and run past some of Dublin’s most famous landmarks like Christ Church Cathedral and the famous Guinness Brewery. Afterwards enjoy our headliner at the finish festival concert. \nOur brand new city centre start line for the Half Marathon will be at Fitzwilliam Square and you will finish back in Phoenix Park. \nOur new 10K course will be fully held in Phoenix Park this year and will finish with the Half Marathoners. \nOn Saturday\, our 5K will also be held fully in the park once again\, so don’t forget to wave to the deer as you pass! \nWe will once again have our Family Fun Run on the Sunday for all the kids who want to earn that bling as well! Mum and Dad can do this too to get that extra bit of bling and cool down after the Half Marathon or 10K. \nTake on our Remix Challenge and earn yourself an extra medal. Run the 5K on Saturday and any distance on Sunday to bag yourself some more bling! That’s 3 medals\, 2 days of running\, 1 weekend!
URL:https://www.runireland.com/events/rock-n-roll-dublin-half-marathon-10k/
LOCATION:Dublin\, Ireland
CATEGORIES:10K,5K,Half Marathon
ATTACH;FMTTYPE=image/jpeg:https://www.runireland.com/wp-content/uploads/2019/01/Rock-n-Roll-Half-Marathon-124.jpg
GEO:53.1423672;-7.6920536
END:VEVENT
BEGIN:VEVENT
DTSTART;TZID=Europe/Dublin:20190810T110000
DTEND;TZID=Europe/Dublin:20190810T170000
DTSTAMP:20260423T051638
CREATED:20190215T170858Z
LAST-MODIFIED:20190724T195345Z
UID:175763-1565434800-1565456400@www.runireland.com
SUMMARY:Westport Half Marathon
DESCRIPTION:Westport Leisure Park is proud to launch the inaugural Westport Half Marathon on Saturday 10th August 2019. \nTaking place in the “the best place to live in Ireland” it promises to be another great event and set against the dramatic backdrop of Croagh Patrick and the spectacular Wild Atlantic Way scenery. \nWhile the landscape may be mountainous\, the course is flat with only slight incline. The start is within walking distance of the town centre and the half marathon is completed by three loops. The route brings runners along the coast road before looping back along the town’s Greenway. \nThe event is suitable for those looking to clock a PB or if it’s your first time taking on this distance. \nEach competitor will enjoy the hospitality that Westport is renowned for along with a unique souvenir event T-shirt. \nROUTE MAP AND ELEVATION INFO CLICK HERE
URL:https://www.runireland.com/events/175763/
CATEGORIES:Half Marathon
ATTACH;FMTTYPE=image/jpeg:https://www.runireland.com/wp-content/uploads/2019/02/Westport-Half-Marathon-poster.jpg
ORGANIZER;CN="Westport Leisure Park":MAILTO:sweeney@westportleisure.com
END:VEVENT
BEGIN:VEVENT
DTSTART;TZID=Europe/Dublin:20190810T130000
DTEND;TZID=Europe/Dublin:20190810T170000
DTSTAMP:20260423T051638
CREATED:20190510T103855Z
LAST-MODIFIED:20190510T103855Z
UID:177661-1565442000-1565456400@www.runireland.com
SUMMARY:Cavan Kayakarun
DESCRIPTION:Adventure race (bike/run/kayak) with an event for beginners\, seasoned racers and experts.\nSupreme Body Tester 58k\nBody Tester 41k\nMini/Junior 13k
URL:https://www.runireland.com/events/cavan-kayakarun-2/
LOCATION:Gallonray house\, Cootehill\, Co. Cavan\, Cottehill\, Cavan
CATEGORIES:Adventure Races
ATTACH;FMTTYPE=image/jpeg:https://www.runireland.com/wp-content/uploads/2019/05/1925DB5A-7153-4278-B473-E3B1BBD49B5D.jpeg
END:VEVENT
BEGIN:VEVENT
DTSTART;TZID=Europe/Dublin:20190810T150000
DTEND;TZID=Europe/Dublin:20190810T163000
DTSTAMP:20260423T051638
CREATED:20190716T203534Z
LAST-MODIFIED:20190805T152006Z
UID:178357-1565449200-1565454600@www.runireland.com
SUMMARY:Ballinameen 10 & 5k\, 3k kids run
DESCRIPTION:Annual chip timed 5&10k run organised in aid of Ballinameen Ladies GAA Club will take a place on Saturday 10th August 2019 @ 3pm! \nKids 3k run will also take a place! \nStart and finish of all races is located @ Ballinameen crossroads. \nMusic & Refreshments and Presentation will take place in Cross Bar! \nREGISTRATION FROM 2PM IN THE CROSS BAR!
URL:https://www.runireland.com/events/ballinameen-10-5k-3k-kids-run/
LOCATION:BALLINAMEEN\, Ballinameen
CATEGORIES:10K,5K
ATTACH;FMTTYPE=image/jpeg:https://www.runireland.com/wp-content/uploads/2019/07/IMG-20190804-WA0006.jpg
ORGANIZER;CN="Ballinameen GAA":MAILTO:sec.ballinameen.ladies.ros@gmail.com
END:VEVENT
BEGIN:VEVENT
DTSTART;TZID=Europe/Dublin:20190810T190000
DTEND;TZID=Europe/Dublin:20190810T210000
DTSTAMP:20260423T051638
CREATED:20190521T115025Z
LAST-MODIFIED:20190618T110357Z
UID:177772-1565463600-1565470800@www.runireland.com
SUMMARY:Galway Clinic Streets of Galway 8k
DESCRIPTION:2019 sees the 34th edition of the famous Streets of Galway 8km road race. Since its inception in 1986 the event has grown into one of the most prestigious road races in the country\, yet remains true to its original motto of Sport for All\, as many locals and visitors take on the event year in year out. The event will bring 3\,000 participants onto the streets of our city and suburbs into what is a fantastic event and evening in the city. \nThis event is the jewel in the crown of road races in the West and tours through the famous City of the Tribes.The race route starts at Fr Griffin Road in the city and takes in many of the sights of Galway city. including the Spanish Arch\, Eyre Square\, the landmark Galway Cathedral and NUI Galway\, and routes out towards Salthill\, past Pearse Stadium and then back in the ‘Prom’ along Galway Bay for a fast section into the finish at the historic Claddagh. \nEvent details and schedule\nThe 2019 Galway Clinic Streets of Galway 8km \, organised by local club Galway City Harriers\, which takes place this year on Saturday 10th August at 7pm. \nAn early-bird rate of €20 will be available until midnight on July 1st\, after which a standard entry-fee of €25 will apply. \nThis year we are once again delighted to have the Galway Clinic as the Streets of Galway 8k race sponsor.  The Galway Clinic\, is a Galway institution and is a major health provider and employer for the city and county\, The Clinic aims to improve the health and quality of life of the individuals and communities its serves\, and to promote health and wellbeing across society . \nEnter Now – Click Here
URL:https://www.runireland.com/events/streets-of-galway/
CATEGORIES:Other
END:VEVENT
END:VCALENDAR