BEGIN:VCALENDAR
VERSION:2.0
PRODID:-//RunIreland.com - ECPv6.5.1.5//NONSGML v1.0//EN
CALSCALE:GREGORIAN
METHOD:PUBLISH
X-WR-CALNAME:RunIreland.com
X-ORIGINAL-URL:https://www.runireland.com
X-WR-CALDESC:Events for RunIreland.com
REFRESH-INTERVAL;VALUE=DURATION:PT1H
X-Robots-Tag:noindex
X-PUBLISHED-TTL:PT1H
BEGIN:VTIMEZONE
TZID:Europe/Dublin
BEGIN:STANDARD
TZOFFSETFROM:+0000
TZOFFSETTO:+0100
TZNAME:IST
DTSTART:20190331T010000
END:STANDARD
BEGIN:DAYLIGHT
TZOFFSETFROM:+0100
TZOFFSETTO:+0000
TZNAME:GMT
DTSTART:20191027T010000
END:DAYLIGHT
END:VTIMEZONE
BEGIN:VEVENT
DTSTART;TZID=Europe/Dublin:20190727T100000
DTEND;TZID=Europe/Dublin:20190825T160000
DTSTAMP:20260423T004902
CREATED:20190611T105853Z
LAST-MODIFIED:20190611T105853Z
UID:178061-1564221600-1566748800@www.runireland.com
SUMMARY:Wild Air Run
DESCRIPTION:Wild Air Run 2019 is here! Book Now! \nEach year we add different features to our events\, this year it’s FOAM! \nThis Summer tackle our 5k inflatable obstacle course & finish the race on Europe’s largest 4 lane slide full of foam! \n2019 Location and Dates: \nMalahide Castle and Gardens – July 27th & 28th\nMarlay Park – August 24th & 25th \nTickets on sale now at wildairrun.com
URL:https://www.runireland.com/events/wild-air-run/
LOCATION:Malahide Castle Gardens\, Back Road\, Malahide
CATEGORIES:5K,Adventure Races,Kids Race,Other
ATTACH;FMTTYPE=image/jpeg:https://www.runireland.com/wp-content/uploads/2019/06/DSC04286-scaled.jpg
END:VEVENT
BEGIN:VEVENT
DTSTART;TZID=Europe/Dublin:20190805T140000
DTEND;TZID=Europe/Dublin:20190805T160000
DTSTAMP:20260423T004902
CREATED:20190409T135800Z
LAST-MODIFIED:20190717T072826Z
UID:176999-1565013600-1565020800@www.runireland.com
SUMMARY:Garrafrauns Dunmore 6k 2019
DESCRIPTION:The 6k run starts in Garrafrauns at 2 pm on the 5th of August and finishes in Dunmore and is an annual event during Dunmore Festival. \nWe have chip timing to ensure this is an enjoyable event for everyone. You can register on line or on the day. It is cheaper to register on line. Registration on the day closes at 1.30 SHARP. \nRegistration Cost\nOn-Line or Sunday (day before the race) registration:\nAdult: €15\nJunior: €10\nLate (Monday\, pre-race) Registration Cost:\nAdult: €20\nJunior: €15\n\nOnline registration closes on Saturday 3rd August at 2 pm. \n\nThere will be a shuttle bus to Garrafrauns leaving from the Square in Dunmore at 12.30pm. Group Warm Up at 1.30pm. The race starts at 2 pm. We are welcoming runners and walkers of all ages and abilities. \nAll participants gain free entry into the festival sports day (please bring bib number to gates for free entry) where the prize giving will be held after the race (approx 4 pm). Sports Day is in the Soccer pitch this year (beside the playground and very close to the finish line of the race). where there are shower facilities for runners. Also\, there will be a fundraising BBQ at the pitch along with bouncy castles and novelty events\, this promises to be a fun family day out. \nAll On-Line Registrations Will Be Entered Into a Draw for €100 sports voucher.\nThe draw will take place after the road race at the awards presentation.\nFollow our Facebook page for an opportunity to also get a free registration @garrafraunsdunmore6k
URL:https://www.runireland.com/events/garrafrauns-dunmore-6k/
LOCATION:Garrafrauns\, Garrafrauns\, Dunmore\, Ireland
CATEGORIES:Road Race
ORGANIZER;CN="Dunmore Annual Festival":MAILTO:mariehowley@gmail.com
GEO:53.6180163;-8.7441461
X-APPLE-STRUCTURED-LOCATION;VALUE=URI;X-ADDRESS=Garrafrauns Garrafrauns Dunmore Ireland;X-APPLE-RADIUS=500;X-TITLE=Garrafrauns:geo:-8.7441461,53.6180163
END:VEVENT
END:VCALENDAR