BEGIN:VCALENDAR
VERSION:2.0
PRODID:-//RunIreland.com - ECPv6.5.1.5//NONSGML v1.0//EN
CALSCALE:GREGORIAN
METHOD:PUBLISH
X-WR-CALNAME:RunIreland.com
X-ORIGINAL-URL:https://www.runireland.com
X-WR-CALDESC:Events for RunIreland.com
REFRESH-INTERVAL;VALUE=DURATION:PT1H
X-Robots-Tag:noindex
X-PUBLISHED-TTL:PT1H
BEGIN:VTIMEZONE
TZID:Europe/Dublin
BEGIN:STANDARD
TZOFFSETFROM:+0000
TZOFFSETTO:+0100
TZNAME:IST
DTSTART:20190331T010000
END:STANDARD
BEGIN:DAYLIGHT
TZOFFSETFROM:+0100
TZOFFSETTO:+0000
TZNAME:GMT
DTSTART:20191027T010000
END:DAYLIGHT
END:VTIMEZONE
BEGIN:VEVENT
DTSTART;TZID=Europe/Dublin:20190727T080000
DTEND;TZID=Europe/Dublin:20190728T170000
DTSTAMP:20260423T034542
CREATED:20190107T114552Z
LAST-MODIFIED:20190107T114552Z
UID:173839-1564214400-1564333200@www.runireland.com
SUMMARY:The Ros Run Sliabh Bawn
DESCRIPTION:Back for our second year on the beautiful Sliabh Bawn in Co. Roscommon. With spectacular views amongst the wind turbines we are offering a 10k\, half marathon and a full marathon distance but the option to do a back to back. (Same distance both days) it is an off-road event with alot of rolls hills but upon completion you feel fully accomplished. \nAll finishers will receive a well designed and unique medal with an additional medal for the people who are brave enough to complete the b2b! T-shirts\, hot food\, transport to and from the start line\, portaloos\, water/goodie stations\, chipped course\, marshals\, hot food after etc on the day for all participants. \nPlease have a look at our Facebook page for more info and comments\, feedback and photos from last years participants.
URL:https://www.runireland.com/events/the-ros-run-sliabh-bawn-2/
LOCATION:st. Faithleachs GAA grounds\, Ballyleague\, co. Roscommon\, Ballyleague\,\, Roscommon\, N39 TH77
CATEGORIES:10K,Full Marathon,Half Marathon,Trail / Off Road Races
ATTACH;FMTTYPE=image/jpeg:https://www.runireland.com/wp-content/uploads/2019/01/Screenshot_20190107-090409_Gallery.jpg
ORGANIZER;CN="Johnny Dolan &amp%3B Claire Connaughton":MAILTO:johnnydolan@ymail.com
GEO:53.676119;-8.0094911
X-APPLE-STRUCTURED-LOCATION;VALUE=URI;X-ADDRESS=st. Faithleachs GAA grounds Ballyleague co. Roscommon Ballyleague Roscommon N39 TH77;X-APPLE-RADIUS=500;X-TITLE=Ballyleague\,:geo:-8.0094911,53.676119
END:VEVENT
BEGIN:VEVENT
DTSTART;TZID=Europe/Dublin:20190727T100000
DTEND;TZID=Europe/Dublin:20190728T160000
DTSTAMP:20260423T034542
CREATED:20190620T135114Z
LAST-MODIFIED:20190620T135114Z
UID:178179-1564221600-1564329600@www.runireland.com
SUMMARY:5k Inflatable Foam Obstacle Course - Family Fun!
DESCRIPTION:Wild Air Run is an award-winning family fun run that features 10 of Europe’s biggest inflatable obstacles as part of a 5K course. 2019 brings a new feature such as MEGA FOAM to our 4 lane\, 60m long slide! \nIt can be completed by all fitness levels and all ages between 7-70. All the family can get involved. \nFollowing last years successful tour around Ireland. We are super excited to be coming to Malahide Castle\, Dublin on 27th July & 28th\, Marlay Park\, Dublin on August 24th & 25th. \nAt Wild Air Run the focus is on fun. From fitness fanatics who will find the run a genuine challenge\, to  the armchair athlete and everyone in between who will enjoy things at a more relaxed pace. The 10 massive obstacles combine agility\, creativity and above all\, fun. \nBefore you can claim victory over Wild Air Run you will finish with Europe’s largest inflatable slide which is a crazy 60m long and 8m high covered in foam. There will also be a ‘Chill Zone’\, an area for both participants and spectators to relax and enjoy music\, games and food and drink from local vendors. \nAll events will kick off its first wave at 10:00am\, with additional waves running in 20-minute intervals until 4:00pm. \nTickets for Wild Air Run are on sale at www.wildairrun.com. Launch Offer Tickets are now on sale at €25 for adults and €15 for children. Family tickets (€68) and group rates are also available. Spectators can cheer from the side-lines for free. For more information and to buy tickets visit www.wildairrun.com.
URL:https://www.runireland.com/events/5k-inflatable-foam-obstacle-course-family-fun/
LOCATION:Malahide Castle Gardens\, Back Road\, Malahide
CATEGORIES:5K,Kids Race
END:VEVENT
BEGIN:VEVENT
DTSTART;TZID=Europe/Dublin:20190727T100000
DTEND;TZID=Europe/Dublin:20190825T160000
DTSTAMP:20260423T034542
CREATED:20190611T105853Z
LAST-MODIFIED:20190611T105853Z
UID:178061-1564221600-1566748800@www.runireland.com
SUMMARY:Wild Air Run
DESCRIPTION:Wild Air Run 2019 is here! Book Now! \nEach year we add different features to our events\, this year it’s FOAM! \nThis Summer tackle our 5k inflatable obstacle course & finish the race on Europe’s largest 4 lane slide full of foam! \n2019 Location and Dates: \nMalahide Castle and Gardens – July 27th & 28th\nMarlay Park – August 24th & 25th \nTickets on sale now at wildairrun.com
URL:https://www.runireland.com/events/wild-air-run/
LOCATION:Malahide Castle Gardens\, Back Road\, Malahide
CATEGORIES:5K,Adventure Races,Kids Race,Other
ATTACH;FMTTYPE=image/jpeg:https://www.runireland.com/wp-content/uploads/2019/06/DSC04286-scaled.jpg
END:VEVENT
END:VCALENDAR